BEGIN:VCALENDAR
VERSION:2.0
PRODID:-//Devpost\, Inc.//AIVENTRA//EN
CALSCALE:GREGORIAN
BEGIN:VTIMEZONE
TZID:Asia/Kolkata
BEGIN:STANDARD
DTSTART:19451014T230000
TZOFFSETFROM:+0630
TZOFFSETTO:+0530
TZNAME:IST
END:STANDARD
END:VTIMEZONE
BEGIN:VEVENT
DTSTAMP:20260422T111622Z
UID:122f0a00-277d-4d05-a92d-26dee7e4b26d
DTSTART;TZID=Asia/Kolkata:20260419T214500
DTEND;TZID=Asia/Kolkata:20260426T234500
DESCRIPTION:https://aiventra.devpost.com/
LOCATION:Nandanam\, Rathna Nagar\, Nandanam\, Chennai\, Tamil Nadu 600035\,
  India
SUMMARY:AIVENTRA
BEGIN:VALARM
ACTION:DISPLAY
TRIGGER:-P3D
SUMMARY:Get ready\, the hacking starts in 3 days.
END:VALARM
END:VEVENT
END:VCALENDAR
